BEGIN:VCALENDAR
VERSION:2.0
PRODID:-//Honeybee Stampers - ECPv6.15.20//NONSGML v1.0//EN
CALSCALE:GREGORIAN
METHOD:PUBLISH
X-WR-CALNAME:Honeybee Stampers
X-ORIGINAL-URL:https://honeybeestampers.com
X-WR-CALDESC:Events for Honeybee Stampers
REFRESH-INTERVAL;VALUE=DURATION:PT1H
X-Robots-Tag:noindex
X-PUBLISHED-TTL:PT1H
BEGIN:VTIMEZONE
TZID:America/New_York
BEGIN:DAYLIGHT
TZOFFSETFROM:-0500
TZOFFSETTO:-0400
TZNAME:EDT
DTSTART:20160313T070000
END:DAYLIGHT
BEGIN:STANDARD
TZOFFSETFROM:-0400
TZOFFSETTO:-0500
TZNAME:EST
DTSTART:20161106T060000
END:STANDARD
BEGIN:DAYLIGHT
TZOFFSETFROM:-0500
TZOFFSETTO:-0400
TZNAME:EDT
DTSTART:20170312T070000
END:DAYLIGHT
BEGIN:STANDARD
TZOFFSETFROM:-0400
TZOFFSETTO:-0500
TZNAME:EST
DTSTART:20171105T060000
END:STANDARD
BEGIN:DAYLIGHT
TZOFFSETFROM:-0500
TZOFFSETTO:-0400
TZNAME:EDT
DTSTART:20180311T070000
END:DAYLIGHT
BEGIN:STANDARD
TZOFFSETFROM:-0400
TZOFFSETTO:-0500
TZNAME:EST
DTSTART:20181104T060000
END:STANDARD
BEGIN:DAYLIGHT
TZOFFSETFROM:-0500
TZOFFSETTO:-0400
TZNAME:EDT
DTSTART:20190310T070000
END:DAYLIGHT
BEGIN:STANDARD
TZOFFSETFROM:-0400
TZOFFSETTO:-0500
TZNAME:EST
DTSTART:20191103T060000
END:STANDARD
BEGIN:DAYLIGHT
TZOFFSETFROM:-0500
TZOFFSETTO:-0400
TZNAME:EDT
DTSTART:20200308T070000
END:DAYLIGHT
BEGIN:STANDARD
TZOFFSETFROM:-0400
TZOFFSETTO:-0500
TZNAME:EST
DTSTART:20201101T060000
END:STANDARD
END:VTIMEZONE
BEGIN:VEVENT
DTSTART;TZID=America/New_York:20190525T110000
DTEND;TZID=America/New_York:20190525T110000
DTSTAMP:20260421T072857
CREATED:20190502T213655Z
LAST-MODIFIED:20190502T214139Z
UID:667-1558782000-1558782000@honeybeestampers.com
SUMMARY:Host Appreciation Brunch & BOGO Sale
DESCRIPTION:HONEYBEE STAMPERS 2019 HOST APPRECIATION BRUNCH \n\n\nThis special event is for Hosts\, VIP customers\, Club Members and Paper Pumpkin customers of Honeybee Stampers.\n\n\n\nThis annual brunch is by invitation only and will take place at my home in Sumter\, SC on Saturday\, May 25th from 11am to 3pm.  Address/directions provided with RSVP.\n*HOSTS who have had a private stamp class/social for their friends in the past year will get to shop the BOGO an hour early.  You will be contacted if you get this special early entry to the event.\n\n\n\nWhat can you expect at the Host Appreciation Brunch & BOGO?!\n\n\n\nA delicious array of brunch edibles\nMake & Takes \nProduct Preview Displays\nGifts of Gratitude\nPerks for future event RSVPs & Hosting\nBOGO – always rated the best part of these events! Stampin’ Up! product both new and gently used will be available to you on a Buy One Get One FREE deal.  Shop the selection at the brunch and receive FREE product of equal value from the current catalog.  Seriously the BEST deal ever!\n\n\n\n\n\nThis event is Open House style\, so come and go as you please (but keep in mind with the BOGO it’s 1st come 1st serve).  Come anytime you wish\, doors open at 11am and the event concludes at 3pm.\n\n\n\n\nRSVP is a MUST for this event.  Those who RSVP will receive an event packet with their Make & Takes and Gifts of Gratitude.\n\n\n\nThank you so much for your incredible support for Honeybee Stampers this past year.  We look forward to spoiling you at this special event!
URL:https://honeybeestampers.com/event/host-appreciation-brunch-bogo/
LOCATION:Sumter\, SC
CATEGORIES:Host Appreciation Brunch & BOGO
ORGANIZER;CN="Hattie Walker Nelson":MAILTO:honeybeestampers@gmail.com
END:VEVENT
BEGIN:VEVENT
DTSTART;TZID=America/New_York:20180623T110000
DTEND;TZID=America/New_York:20180623T150000
DTSTAMP:20260421T072857
CREATED:20180606T022502Z
LAST-MODIFIED:20180607T170136Z
UID:447-1529751600-1529766000@honeybeestampers.com
SUMMARY:Host Appreciation Brunch & BOGO Sale
DESCRIPTION:HONEYBEE STAMPERS 2018 HOST APPRECIATION BRUNCH \n\nThis special event is for Hosts\, VIP customers\, Club Members and Paper Pumpkin customers of Honeybee Stampers\n\n\nThis annual brunch is by invitation only and will take place at my home in Sumter\, SC on Saturday\, June 23rd from 11am to 3pm.  Address/directions provided with RSVP.\n\n\nWhat can you expect at the Host Appreciation Brunch & BOGO?!\n\n\n\nA delicious array of brunch edibles\nMake & Takes featuring the Share What You Love Suite\nProduct Preview Displays\nGifts of Gratitude\nPerks for future event RSVPs & Hosting\nBOGO – always rated the best part of these events! Stampin’ Up! product both new and gently used will be available to you on a Buy One Get One FREE deal.  Shop the selection at the brunch and receive FREE product of equal value from the NEW catalog.  Seriously the BEST deal ever!\n\n\nThis event is Open House style\, so come and go as you please (but keep in mind with the BOGO it’s 1st come 1st serve).  Come anytime you wish\, doors open at 11am and the event concludes at 3pm.\n\n\n\nRSVP is a MUST for this event.  Those who RSVP will receive an event packet with their Make & Takes and Gifts of Gratitude.\n\n\nThank you so much for your incredible support for Honeybee Stampers this past year.  We look forward to spoiling you at this special event!
URL:https://honeybeestampers.com/event/host-appreciation-brunch-bogo-sale-2/
LOCATION:Sumter\, SC
CATEGORIES:Host Appreciation Brunch & BOGO
ORGANIZER;CN="Hattie Walker Nelson":MAILTO:honeybeestampers@gmail.com
END:VEVENT
BEGIN:VEVENT
DTSTART;TZID=America/New_York:20170624T110000
DTEND;TZID=America/New_York:20170624T150000
DTSTAMP:20260421T072857
CREATED:20170615T012655Z
LAST-MODIFIED:20170617T013355Z
UID:214-1498302000-1498316400@honeybeestampers.com
SUMMARY:Host Appreciation Brunch & BOGO Sale
DESCRIPTION:This event is typically reserved for Hosts only but as this is the first time in South Carolina\, we’ve decided to extend it to customers as well.\n\n\nThis annual brunch is by invitation only and will take place at my home in Sumter\, SC on Saturday\, June 24th from 11am to 3pm.  Address/directions provided with RSVP.\n\n\nWhat can you expect at the Host Appreciation Brunch & BOGO?!\n\n\n\nA delicious array of brunch edibles\nMake & Takes featuring the Delightful Daisy Suite\nProduct Preview Displays\nToken of Appreciation\nPrizes & Awards (Awards ceremony will begin at 1pm)\nRaffle\nPerks for future event RSVPs & Hosting\nBOGO – always rated the best part of these events! Stampin’ Up! product both new and gently used will be available to you on a Buy One Get One FREE deal.  Shop the selection at the brunch and receive FREE product of equal value from the NEW catalog.  Seriously the BEST deal ever!\n\n\nThis event is Open House style with the only time sensitive feature being the Awards Ceremony at 1pm.  Come anytime you wish\, doors open at 11am and the event concludes at 3pm.  Please keep in mind that the retired products for BOGO are on a 1st come 1st serve basis.\n\n\n\nRSVP is a MUST for this event.  Those who RSVP will receive an event packet with their Make & Takes and Token of Appreciation.\n\n\nThank you so much for your incredible support this past year and I hope to see you next Saturday.\n\n\n*If you have friends whom you think may enjoy this event but has not been invited\, first let me know and secondly let them know to simply place an order (of any size) on my website by June 22nd.  If there is someone who you know that has not received a virtual invitation\, please let me know that as well.  -THANK YOU!   
URL:https://honeybeestampers.com/event/host-appreciation-brunch-bogo-sale/
CATEGORIES:Host Appreciation Brunch & BOGO
END:VEVENT
END:VCALENDAR