BEGIN:VCALENDAR
VERSION:2.0
PRODID:-//Honeybee Stampers - ECPv6.15.20//NONSGML v1.0//EN
CALSCALE:GREGORIAN
METHOD:PUBLISH
X-ORIGINAL-URL:https://honeybeestampers.com
X-WR-CALDESC:Events for Honeybee Stampers
REFRESH-INTERVAL;VALUE=DURATION:PT1H
X-Robots-Tag:noindex
X-PUBLISHED-TTL:PT1H
BEGIN:VTIMEZONE
TZID:America/New_York
BEGIN:DAYLIGHT
TZOFFSETFROM:-0500
TZOFFSETTO:-0400
TZNAME:EDT
DTSTART:20220313T070000
END:DAYLIGHT
BEGIN:STANDARD
TZOFFSETFROM:-0400
TZOFFSETTO:-0500
TZNAME:EST
DTSTART:20221106T060000
END:STANDARD
BEGIN:DAYLIGHT
TZOFFSETFROM:-0500
TZOFFSETTO:-0400
TZNAME:EDT
DTSTART:20230312T070000
END:DAYLIGHT
BEGIN:STANDARD
TZOFFSETFROM:-0400
TZOFFSETTO:-0500
TZNAME:EST
DTSTART:20231105T060000
END:STANDARD
BEGIN:DAYLIGHT
TZOFFSETFROM:-0500
TZOFFSETTO:-0400
TZNAME:EDT
DTSTART:20240310T070000
END:DAYLIGHT
BEGIN:STANDARD
TZOFFSETFROM:-0400
TZOFFSETTO:-0500
TZNAME:EST
DTSTART:20241103T060000
END:STANDARD
END:VTIMEZONE
BEGIN:VEVENT
DTSTART;TZID=America/New_York:20230325T160000
DTEND;TZID=America/New_York:20230325T180000
DTSTAMP:20260420T175434
CREATED:20230314T042216Z
LAST-MODIFIED:20230314T043036Z
UID:3103-1679760000-1679767200@honeybeestampers.com
SUMMARY:Kits & Cards Class
DESCRIPTION:Register to attend this month in person or online and receive an all-inclusive card kit that makes 9 cards to express your gratitude\, and a chance to win a Stampin’ Up! shopping spree! \nYour event fee includes your all-inclusive card kit\, card game (1 hand)\, and surcee gift. Additional playing cards cost $5 each and all the proceeds go to the prize drawing. The number of prizes depends on the number of people in attendance\, so be sure to invite your friends to join you for a fun\, crafty afternoon at Honeybee Stampers Studio! \nREGISTER TO ATTEND IN PERSON \nIncludes all-inclusive card kit\, card game (1 hand)\, and surcee gift.\n \nWHEN?\nMarch 25th\, 4pm-6pm EDT\nWHERE?\nHoneybee Stampers Studio\n1116 C Alice Drive \nSumter\, SC 29153\n*Across the street from Baker’s Sweets and between Salon La Vie and Sip & Gogh \nHEALTH & SAFETY:\nMasks Optional \nRSVP by Wednesday\, March 22nd \nCOST:\n$35 \nCancellation Policy:  No cancellations after the RSVP deadline.
URL:https://honeybeestampers.com/event/kitscards-mar2023/
LOCATION:Honeybee Stampers Studio\, 1116 C Alice Drive\, Sumter\, SC\, 29150\, United States
CATEGORIES:Kits & Cards
ORGANIZER;CN="Hattie Walker Nelson":MAILTO:honeybeestampers@gmail.com
END:VEVENT
BEGIN:VEVENT
DTSTART;TZID=America/New_York:20230225T160000
DTEND;TZID=America/New_York:20230225T180000
DTSTAMP:20260420T175434
CREATED:20230201T183006Z
LAST-MODIFIED:20230202T214223Z
UID:2997-1677340800-1677348000@honeybeestampers.com
SUMMARY:Kits & Cards Class
DESCRIPTION:Register to attend this month in person or online and receive an all-inclusive card kit that makes 9 cards to express your gratitude\, and a chance to win a Stampin’ Up! shopping spree! \nYour event fee includes your all-inclusive card kit\, card game (1 hand)\, and surcee gift. Additional playing cards cost $5 each and all the proceeds go to the prize drawing. The number of prizes depends on the number of people in attendance\, so be sure to invite your friends to join you for a fun\, crafty afternoon at Honeybee Stampers Studio! \nREGISTRATION OPTIONS: \nIN PERSON:\nAttend this card making class in person. Includes all-inclusive card kit\, card game (1 hand)\, and surcee gift.\n \nWHEN?\nFebruary 25th\, 4pm-6pm EST\nWHERE?\nHoneybee Stampers Studio\n1116 C Alice Drive \nSumter\, SC 29153\n*Across the street from Baker’s Sweets and between Salon La Vie and Sip & Gogh\nHEALTH & SAFETY:\nMasks Optional \nONLINE:\nAttend this card making class online. Includes all-inclusive card kit\, game (1 set of numbers)\, and surcee gift. I will contact you following registration to collect your number choices for the game. \nWHEN?\nFebruary 24th\, 8pm-9.30pm EST\nWHERE?\nIn the comfort of your own home\, via zoom (link to be provided after registration) \nRSVP by Wednesday\, February 22nd \nCOST:\n$35 \nCancellation Policy:  No cancellations after the RSVP deadline. \n\n  \n  \n 
URL:https://honeybeestampers.com/event/kitscards-feb2023-2/
LOCATION:Honeybee Stampers Studio\, 1116 C Alice Drive\, Sumter\, SC\, 29150\, United States
CATEGORIES:Kits & Cards
ORGANIZER;CN="Hattie Walker Nelson":MAILTO:honeybeestampers@gmail.com
END:VEVENT
BEGIN:VEVENT
DTSTART;TZID=America/New_York:20230224T200000
DTEND;TZID=America/New_York:20230224T213000
DTSTAMP:20260420T175434
CREATED:20230201T183108Z
LAST-MODIFIED:20230201T183108Z
UID:2998-1677268800-1677274200@honeybeestampers.com
SUMMARY:Kits & Cards Class
DESCRIPTION:Register to attend this month in person or online and receive an all-inclusive card kit that makes 9 cards to express your gratitude\, and a chance to win a Stampin’ Up! shopping spree! \nYour event fee includes your all-inclusive card kit\, card game (1 hand)\, and surcee gift. Additional playing cards cost $5 each and all the proceeds go to the prize drawing. The number of prizes depends on the number of people in attendance\, so be sure to invite your friends to join you for a fun\, crafty afternoon at Honeybee Stampers Studio! \nREGISTRATION OPTIONS: \nIN PERSON:\nAttend this card making class in person. Includes all-inclusive card kit\, card game (1 hand)\, and surcee gift.\n \nWHEN?\nFebruary 25th\, 4pm-6pm EST\nWHERE?\nHoneybee Stampers Studio\n1116 C Alice Drive \nSumter\, SC 29153\n*Across the street from Baker’s Sweets and between Salon La Vie and Sip & Gogh\nHEALTH & SAFETY:\nMasks Optional \nONLINE:\nAttend this card making class online. Includes all-inclusive card kit\, game (1 set of numbers)\, and surcee gift. I will contact you following registration to collect your number choices for the game. \nWHEN?\nFebruary 24th\, 8pm-9.30pm EST\nWHERE?\nIn the comfort of your own home\, via zoom (link to be provided after registration) \nRSVP by Wednesday\, February 22nd \nCOST:\n$35 \nCancellation Policy:  No cancellations after the RSVP deadline. \n\n  \n  \n 
URL:https://honeybeestampers.com/event/kitscards-feb2023-1/
LOCATION:Honeybee Stampers Studio\, 1116 C Alice Drive\, Sumter\, SC\, 29150\, United States
CATEGORIES:Kits & Cards
ORGANIZER;CN="Hattie Walker Nelson":MAILTO:honeybeestampers@gmail.com
END:VEVENT
BEGIN:VEVENT
DTSTART;TZID=America/New_York:20230207T200000
DTEND;TZID=America/New_York:20230207T213000
DTSTAMP:20260420T175434
CREATED:20230202T214603Z
LAST-MODIFIED:20230202T214635Z
UID:3014-1675800000-1675805400@honeybeestampers.com
SUMMARY:Kits & Cards Class
DESCRIPTION:**ONLINE EVENT RESCHEDULED Tuesday February 7th 8-9.30pm EST** \nThis NEW Honeybee Stampers event is gonna be a fan favorite! Register to attend this month in person or online and receive an all-inclusive card kit that makes 9 encouraging cards\, and a chance to win a Stampin’ Up! shopping spree! \nYour event fee includes your all-inclusive card kit\, card game (1 hand)\, and surcee gift. Additional playing cards cost $5 each and all the proceeds go to the prize drawing. The number of prizes depends on the number of people in attendance\, so be sure to invite your friends to join you for a fun\, crafty afternoon at Honeybee Stampers Studio! \nREGISTRATION OPTIONS: \nONLINE:\nAttend this card making class online. Includes all-inclusive card kit\, game (1 set of numbers)\, and surcee gift. I will contact you following registration to collect your number choices for the game. \nWHEN?\nJanuary 31st 8pm-9.30pm EST RESCHEDULED Tuesday February 7th 8-9.30pm EST\nWHERE?\nIn the comfort of your own home\, via zoom (link to be provided after registration)\n \nRSVP by Wednesday\, January 25th \nCOST:\n$35 \nCancellation Policy:  No cancellations after the RSVP deadline. \n\n  \n  \n 
URL:https://honeybeestampers.com/event/kitscards-jan2023-3/
LOCATION:Honeybee Stampers Studio\, 1116 C Alice Drive\, Sumter\, SC\, 29150\, United States
CATEGORIES:Kits & Cards
ORGANIZER;CN="Hattie Walker Nelson":MAILTO:honeybeestampers@gmail.com
END:VEVENT
BEGIN:VEVENT
DTSTART;TZID=America/New_York:20230131T200000
DTEND;TZID=America/New_York:20230131T213000
DTSTAMP:20260420T175434
CREATED:20230119T011430Z
LAST-MODIFIED:20230202T214454Z
UID:2911-1675195200-1675200600@honeybeestampers.com
SUMMARY:Kits & Cards Class
DESCRIPTION:**ONLINE EVENT RESCHEDULED Tuesday February 7th 8-9.30pm EST** \nThis NEW Honeybee Stampers event is gonna be a fan favorite! Register to attend this month in person or online and receive an all-inclusive card kit that makes 9 encouraging cards\, and a chance to win a Stampin’ Up! shopping spree! \nYour event fee includes your all-inclusive card kit\, card game (1 hand)\, and surcee gift. Additional playing cards cost $5 each and all the proceeds go to the prize drawing. The number of prizes depends on the number of people in attendance\, so be sure to invite your friends to join you for a fun\, crafty afternoon at Honeybee Stampers Studio! \nREGISTRATION OPTIONS: \nONLINE:\nAttend this card making class online. Includes all-inclusive card kit\, game (1 set of numbers)\, and surcee gift. I will contact you following registration to collect your number choices for the game. \nWHEN?\nJanuary 31st 8pm-9.30pm EST RESCHEDULED Tuesday February 7th 8-9.30pm EST\nWHERE?\nIn the comfort of your own home\, via zoom (link to be provided after registration)\n \nRSVP by Wednesday\, January 25th \nCOST:\n$35 \nCancellation Policy:  No cancellations after the RSVP deadline. \n\n  \n  \n 
URL:https://honeybeestampers.com/event/kitscards-jan2023-2/
LOCATION:Honeybee Stampers Studio\, 1116 C Alice Drive\, Sumter\, SC\, 29150\, United States
CATEGORIES:Kits & Cards
ORGANIZER;CN="Hattie Walker Nelson":MAILTO:honeybeestampers@gmail.com
END:VEVENT
BEGIN:VEVENT
DTSTART;TZID=America/New_York:20230128T160000
DTEND;TZID=America/New_York:20230128T180000
DTSTAMP:20260420T175434
CREATED:20230119T011331Z
LAST-MODIFIED:20230120T234406Z
UID:2907-1674921600-1674928800@honeybeestampers.com
SUMMARY:Kits & Cards Class
DESCRIPTION:This NEW Honeybee Stampers event is gonna be a fan favorite! Register to attend this month in person or online and receive an all-inclusive card kit that makes 9 encouraging cards\, and a chance to win a Stampin’ Up! shopping spree! \nYour event fee includes your all-inclusive card kit\, card game (1 hand)\, and surcee gift. Additional playing cards cost $5 each and all the proceeds go to the prize drawing. The number of prizes depends on the number of people in attendance\, so be sure to invite your friends to join you for a fun\, crafty afternoon at Honeybee Stampers Studio! \nREGISTRATION OPTIONS: \nIN PERSON:\nAttend this card making class in person. Includes all-inclusive card kit\, card game (1 hand)\, and surcee gift.\n \nWHEN?\nJanuary 28th 4pm-6pm EST\nWHERE?\nHoneybee Stampers Studio\n1116 C Alice Drive \nSumter\, SC 29153\n*Across the street from Baker’s Sweets and between Salon La Vie and Sip & Gogh\nHEALTH & SAFETY:\nMasks Optional \nONLINE:\nAttend this card making class online. Includes all-inclusive card kit\, game (1 set of numbers)\, and surcee gift. I will contact you following registration to collect your number choices for the game. \nWHEN?\nJanuary 31st 8pm-9.30pm EST\nWHERE?\nIn the comfort of your own home\, via zoom (link to be provided after registration) \nRSVP by Wednesday\, January 25th \nCOST:\n$35 \nCancellation Policy:  No cancellations after the RSVP deadline. \n\n  \n  \n 
URL:https://honeybeestampers.com/event/kitscards-jan2023-1/
LOCATION:Honeybee Stampers Studio\, 1116 C Alice Drive\, Sumter\, SC\, 29150\, United States
CATEGORIES:Kits & Cards
ORGANIZER;CN="Hattie Walker Nelson":MAILTO:honeybeestampers@gmail.com
END:VEVENT
END:VCALENDAR