BEGIN:VCALENDAR
VERSION:2.0
PRODID:-//Honeybee Stampers - ECPv6.15.20//NONSGML v1.0//EN
CALSCALE:GREGORIAN
METHOD:PUBLISH
X-ORIGINAL-URL:https://honeybeestampers.com
X-WR-CALDESC:Events for Honeybee Stampers
REFRESH-INTERVAL;VALUE=DURATION:PT1H
X-Robots-Tag:noindex
X-PUBLISHED-TTL:PT1H
BEGIN:VTIMEZONE
TZID:America/New_York
BEGIN:DAYLIGHT
TZOFFSETFROM:-0500
TZOFFSETTO:-0400
TZNAME:EDT
DTSTART:20160313T070000
END:DAYLIGHT
BEGIN:STANDARD
TZOFFSETFROM:-0400
TZOFFSETTO:-0500
TZNAME:EST
DTSTART:20161106T060000
END:STANDARD
BEGIN:DAYLIGHT
TZOFFSETFROM:-0500
TZOFFSETTO:-0400
TZNAME:EDT
DTSTART:20170312T070000
END:DAYLIGHT
BEGIN:STANDARD
TZOFFSETFROM:-0400
TZOFFSETTO:-0500
TZNAME:EST
DTSTART:20171105T060000
END:STANDARD
BEGIN:DAYLIGHT
TZOFFSETFROM:-0500
TZOFFSETTO:-0400
TZNAME:EDT
DTSTART:20180311T070000
END:DAYLIGHT
BEGIN:STANDARD
TZOFFSETFROM:-0400
TZOFFSETTO:-0500
TZNAME:EST
DTSTART:20181104T060000
END:STANDARD
END:VTIMEZONE
BEGIN:VEVENT
DTSTART;TZID=America/New_York:20170722T140000
DTEND;TZID=America/New_York:20170722T170000
DTSTAMP:20260421T051149
CREATED:20170628T193009Z
LAST-MODIFIED:20170628T202221Z
UID:239-1500732000-1500742800@honeybeestampers.com
SUMMARY:Christmas in July STAMP-A-STACK
DESCRIPTION: Ho\, Ho\, Ho\, \nSay it ain’t so!  \nHow can this be?  \nLess than 6 months \nbetween Christmas and me?!\nNo need to worry\, Honeybee Stampers is here to help you get a jump start on those Christmas cards! Create 12 Holiday Cards (3 each of 4 different designs) with envelopes.  Bring a friend or two and get festive with Honeybee Stampers!! \nClass Cost: $20 or FREE with a minimum purchase \nLocated: Elephant Ear Gallery\, Sumter SC \nRSVP by 15th July 2017 to ensure your class packet is ready for you! \n 
URL:https://honeybeestampers.com/event/christmas-july-stamp-stack/
LOCATION:Elephant Ear Gallery\, 672 Bultman Drive\, SUMTER\, SC\, 29153\, United States
CATEGORIES:Stamp-a-Stack
ORGANIZER;CN="Hattie Walker Nelson":MAILTO:honeybeestampers@gmail.com
END:VEVENT
END:VCALENDAR