BEGIN:VCALENDAR
VERSION:2.0
PRODID:-//Honeybee Stampers - ECPv6.15.20//NONSGML v1.0//EN
CALSCALE:GREGORIAN
METHOD:PUBLISH
X-WR-CALNAME:Honeybee Stampers
X-ORIGINAL-URL:https://honeybeestampers.com
X-WR-CALDESC:Events for Honeybee Stampers
REFRESH-INTERVAL;VALUE=DURATION:PT1H
X-Robots-Tag:noindex
X-PUBLISHED-TTL:PT1H
BEGIN:VTIMEZONE
TZID:America/New_York
BEGIN:DAYLIGHT
TZOFFSETFROM:-0500
TZOFFSETTO:-0400
TZNAME:EDT
DTSTART:20160313T070000
END:DAYLIGHT
BEGIN:STANDARD
TZOFFSETFROM:-0400
TZOFFSETTO:-0500
TZNAME:EST
DTSTART:20161106T060000
END:STANDARD
BEGIN:DAYLIGHT
TZOFFSETFROM:-0500
TZOFFSETTO:-0400
TZNAME:EDT
DTSTART:20170312T070000
END:DAYLIGHT
BEGIN:STANDARD
TZOFFSETFROM:-0400
TZOFFSETTO:-0500
TZNAME:EST
DTSTART:20171105T060000
END:STANDARD
BEGIN:DAYLIGHT
TZOFFSETFROM:-0500
TZOFFSETTO:-0400
TZNAME:EDT
DTSTART:20180311T070000
END:DAYLIGHT
BEGIN:STANDARD
TZOFFSETFROM:-0400
TZOFFSETTO:-0500
TZNAME:EST
DTSTART:20181104T060000
END:STANDARD
BEGIN:DAYLIGHT
TZOFFSETFROM:-0500
TZOFFSETTO:-0400
TZNAME:EDT
DTSTART:20190310T070000
END:DAYLIGHT
BEGIN:STANDARD
TZOFFSETFROM:-0400
TZOFFSETTO:-0500
TZNAME:EST
DTSTART:20191103T060000
END:STANDARD
BEGIN:DAYLIGHT
TZOFFSETFROM:-0500
TZOFFSETTO:-0400
TZNAME:EDT
DTSTART:20200308T070000
END:DAYLIGHT
BEGIN:STANDARD
TZOFFSETFROM:-0400
TZOFFSETTO:-0500
TZNAME:EST
DTSTART:20201101T060000
END:STANDARD
END:VTIMEZONE
BEGIN:VEVENT
DTSTART;TZID=America/New_York:20190922T140000
DTEND;TZID=America/New_York:20190922T170000
DTSTAMP:20260420T040042
CREATED:20190815T184220Z
LAST-MODIFIED:20190815T191028Z
UID:730-1569160800-1569171600@honeybeestampers.com
SUMMARY:Holiday Catalog 2019 STAMPIN' BINGO
DESCRIPTION:  \n*PLEASE NOTE that this event is very popular and tends to SELL OUT so secure your seat with a paid registration ASAP.\n**Also note that this event will be held on 2 separate days so be sure you register for the event you wish to attend. \nAs if BINGO wasn’t fun enough\, we had to go and add Stampin’ to the mix!  Grab a friend or two and plan for another great event by Honeybee Stampers.   \nThere will be 7 games of BINGO with Stampin’ Up! prizes (worth hundreds of dollars!) and 3 make-n-takes. \nCost includes:\n\nmake-n-takes  \ngoodie bar\ndoor prizes – *NEW this year\nsweet treats and coffee bar\nordering incentive\nan opportunity to win the GRAND PRIZE Stampin’ Up! shopping spree!\n\nLocated at Honeybee Headquarters. \nSpace is limited.\nRSVP with payment by Saturday\, September 14th or until spots sell out. \n*Bring your Workerbee Kit (or favorite adhesive and tools) – Or you can rent one the day of the event for $5 \n*Cancellation Policy – No refunds after RSVP date. If you must cancel\, you may pick up your goody bag and event packet up to a week after the event.   Due to the amount of work that goes into ordering supplies\, preparing event packets\, room rental and catering fees\, we must abide by a strict cancellation policy.  Thank you.
URL:https://honeybeestampers.com/event/holiday2019bingo-2/
LOCATION:Sumter\, SC
CATEGORIES:Sale-A-Bration,Stampin' Bingo
ORGANIZER;CN="Hattie Walker Nelson":MAILTO:honeybeestampers@gmail.com
END:VEVENT
BEGIN:VEVENT
DTSTART;TZID=America/New_York:20190921T140000
DTEND;TZID=America/New_York:20190921T170000
DTSTAMP:20260420T040042
CREATED:20190815T175753Z
LAST-MODIFIED:20190815T184130Z
UID:724-1569074400-1569085200@honeybeestampers.com
SUMMARY:Holiday Catalog 2019 STAMPIN' BINGO
DESCRIPTION:  \n*PLEASE NOTE that this event is very popular and tends to SELL OUT so secure your seat with a paid registration ASAP.\n**Also note that this event will be held on 2 separate days so be sure you register for the event you wish to attend. \nAs if BINGO wasn’t fun enough\, we had to go and add Stampin’ to the mix!  Grab a friend or two and plan for another great event by Honeybee Stampers.   \nThere will be 7 games of BINGO with Stampin’ Up! prizes (worth hundreds of dollars!) and 3 make-n-takes. \nCost includes:\n\nmake-n-takes  \ngoodie bar\ndoor prizes – *NEW this year\nsweet treats and coffee bar\nordering incentive\nan opportunity to win the GRAND PRIZE Stampin’ Up! shopping spree!\n\nLocated at Honeybee Headquarters. \nSpace is limited.\nRSVP with payment by Saturday\, September 14th or until spots sell out. \n*Bring your Workerbee Kit (or favorite adhesive and tools) – Or you can rent one the day of the event for $5 \n*Cancellation Policy – No refunds after RSVP date. If you must cancel\, you may pick up your goody bag and event packet up to a week after the event.   Due to the amount of work that goes into ordering supplies\, preparing event packets\, room rental and catering fees\, we must abide by a strict cancellation policy.  Thank you.
URL:https://honeybeestampers.com/event/holiday2019bingo/
LOCATION:Sumter\, SC
CATEGORIES:Sale-A-Bration,Stampin' Bingo
ORGANIZER;CN="Hattie Walker Nelson":MAILTO:honeybeestampers@gmail.com
END:VEVENT
BEGIN:VEVENT
DTSTART;TZID=America/New_York:20190623T140000
DTEND;TZID=America/New_York:20190623T170000
DTSTAMP:20260420T040042
CREATED:20190604T012114Z
LAST-MODIFIED:20190604T015614Z
UID:685-1561298400-1561309200@honeybeestampers.com
SUMMARY:Annual Catalog 2019-2020 STAMPIN' BINGO
DESCRIPTION:  \n*PLEASE NOTE that this event is very popular and tends to SELL OUT so secure your seat with a paid registration ASAP.\n**Also note that this event will be held on 2 separate days so be sure you register for the event you wish to attend. \nAs if BINGO wasn’t fun enough\, we had to go and add Stampin’ to the mix!  Grab a friend or two and plan for another great event by Honeybee Stampers.   \nThere will be 7 games of BINGO with Stampin’ Up! prizes (worth hundreds of dollars!) and 3 make-n-takes. \nCost includes:\n\nmake-n-takes  \ngoodie bar\ndoor prizes – *this is NEW this year\nsweet treats and coffee bar\nordering incentive\nan opportunity to win the GRAND PRIZE Stampin’ Up! shopping spree!\n\nLocated at Honeybee Headquarters. \nSpace is limited.\nRSVP with payment by Tuesday\, June 18th or until spots sell out. \n*Bring your Workerbee Kit (or favorite adhesive and tools) – Or you can rent one the day of the event for $5 \n*Cancellation Policy – No refunds after RSVP date. If you must cancel\, you may pick up your goody bag and event packet up to a week after the event.   Due to the amount of work that goes into ordering supplies\, preparing event packets\, room rental and catering fees\, we must abide by a strict cancellation policy.  Thank you.
URL:https://honeybeestampers.com/event/ac19-20bingo-2/
LOCATION:Sumter\, SC
CATEGORIES:Sale-A-Bration,Stampin' Bingo
ORGANIZER;CN="Hattie Walker Nelson":MAILTO:honeybeestampers@gmail.com
END:VEVENT
BEGIN:VEVENT
DTSTART;TZID=America/New_York:20190622T140000
DTEND;TZID=America/New_York:20190622T170000
DTSTAMP:20260420T040042
CREATED:20190603T235238Z
LAST-MODIFIED:20190604T015650Z
UID:678-1561212000-1561222800@honeybeestampers.com
SUMMARY:Annual Catalog 2019-2020 STAMPIN' BINGO
DESCRIPTION:  \n*PLEASE NOTE that this event is very popular and tends to SELL OUT so secure your seat with a paid registration ASAP.\n**Also note that this event will be held on 2 separate days so be sure you register for the event you wish to attend. \nAs if BINGO wasn’t fun enough\, we had to go and add Stampin’ to the mix!  Grab a friend or two and plan for another great event by Honeybee Stampers.   \nThere will be 7 games of BINGO with Stampin’ Up! prizes (worth hundreds of dollars!) and 3 make-n-takes. \nCost includes:\n\nmake-n-takes  \ngoodie bar\ndoor prizes – *this is NEW this year\nsweet treats and coffee bar\nordering incentive\nan opportunity to win the GRAND PRIZE Stampin’ Up! shopping spree!\n\nLocated at Honeybee Headquarters. \nSpace is limited.\nRSVP with payment by Tuesday\, June 18th or until spots sell out. \n*Bring your Workerbee Kit (or favorite adhesive and tools) – Or you can rent one the day of the event for $5 \n*Cancellation Policy – No refunds after RSVP date. If you must cancel\, you may pick up your goody bag and event packet up to a week after the event.   Due to the amount of work that goes into ordering supplies\, preparing event packets\, room rental and catering fees\, we must abide by a strict cancellation policy.  Thank you.
URL:https://honeybeestampers.com/event/ac19-20bingo/
LOCATION:Sumter\, SC
CATEGORIES:Sale-A-Bration,Stampin' Bingo
ORGANIZER;CN="Hattie Walker Nelson":MAILTO:honeybeestampers@gmail.com
END:VEVENT
BEGIN:VEVENT
DTSTART;TZID=America/New_York:20180923T150000
DTEND;TZID=America/New_York:20180923T180000
DTSTAMP:20260420T040042
CREATED:20180918T004303Z
LAST-MODIFIED:20180918T004303Z
UID:517-1537714800-1537725600@honeybeestampers.com
SUMMARY:Holiday STAMPIN' BINGO 2018
DESCRIPTION:As if BINGO wasn’t fun enough\, we had to go and add Stampin’ to the mix!  Grab a friend or two and plan for another great event by Honeybee Stampers.   \nThere will be 6 games of BINGO with Stampin’ Up! prizes (worth hundreds of dollars!) and 3 make-n-takes. \nCost includes:\n\nmake-n-takes  \ngoodie bag \nsweet treats and coffee bar\nordering incentive\nan opportunity to win the GRAND PRIZE Stampin’ Up! shopping spree!\n\nLocated at Honeybee Headquarters – Sumter\, SC \nRSVP with payment by Friday\, September 21st.  \n*Bring your Workerbee Kit (or favorite adhesive and tools) – Or you can rent one the day of the event for $5 \n*Cancellation Policy – No refunds after RSVP date. If you must cancel\, you may pick up your goody bag and event packet up to a week after the event.   Due to the amount of work that goes into ordering supplies\, preparing event packets\, room rental and catering fees\, we must abide by a strict cancellation policy.  Thank you.
URL:https://honeybeestampers.com/event/holidaybingo2018/
LOCATION:Sumter\, SC
CATEGORIES:Holiday,Stampin' Bingo
ORGANIZER;CN="Hattie Walker Nelson":MAILTO:honeybeestampers@gmail.com
END:VEVENT
BEGIN:VEVENT
DTSTART;TZID=America/New_York:20180714T140000
DTEND;TZID=America/New_York:20180714T170000
DTSTAMP:20260420T040042
CREATED:20180701T184543Z
LAST-MODIFIED:20180705T182709Z
UID:474-1531576800-1531587600@honeybeestampers.com
SUMMARY:Summer 2018 STAMPIN' BINGO
DESCRIPTION:As if BINGO wasn’t fun enough\, we had to go and add Stampin’ to the mix!  Grab a friend or two and plan for another great event by Honeybee Stampers.   \nThere will be 6 games of BINGO with Stampin’ Up! prizes (worth hundreds of dollars!) and 3 make-n-takes. \nCost includes:\n\nmake-n-takes  \ngoodie bag \nsweet treats and coffee bar\nordering incentive\nan opportunity to win the GRAND PRIZE Stampin’ Up! shopping spree!\n\nLocated at The Beachforest Club House – Sumter\, SC \nRSVP with payment by Saturday\, July 10th. \n*Bring your Workerbee Kit (or favorite adhesive and tools) – Or you can rent one the day of the event for $5 \n*Cancellation Policy – No refunds after RSVP date. If you must cancel\, you may pick up your goody bag and event packet up to a week after the event.   Due to the amount of work that goes into ordering supplies\, preparing event packets\, room rental and catering fees\, we must abide by a strict cancellation policy.  Thank you.
URL:https://honeybeestampers.com/event/summer-bingo-3/
LOCATION:Beach Forest Community Center\, 2010 Harborview \, Sumter\, SC\, 29153\, United States
CATEGORIES:Sale-A-Bration,Stampin' Bingo
ORGANIZER;CN="Hattie Walker Nelson":MAILTO:honeybeestampers@gmail.com
END:VEVENT
BEGIN:VEVENT
DTSTART;TZID=America/New_York:20180120T140000
DTEND;TZID=America/New_York:20180120T170000
DTSTAMP:20260420T040042
CREATED:20180101T213246Z
LAST-MODIFIED:20180101T214955Z
UID:345-1516456800-1516467600@honeybeestampers.com
SUMMARY:Sale-A-Bration 2018 STAMPIN' BINGO
DESCRIPTION:As if BINGO wasn’t fun enough\, we had to go and add Stampin’ to the mix!  Grab a friend or two and plan for another great event by Honeybee Stampers.   \nThere will be 6 games of BINGO with Stampin’ Up! prizes (worth hundreds of dollars!) and 3 make-n-takes. \nCost includes:\n\nmake-n-takes  \ngoodie bag \nsweet treats and coffee bar\nordering incentive\nan opportunity to win the GRAND PRIZE Stampin’ Up! shopping spree!\n\nLocated at The Beachforest Club House. \nRSVP with payment by Saturday\, January 13th. \n*Bring your Workerbee Kit (or favorite adhesive and tools) – Or you can rent one the day of the event for $5 \n*Cancellation Policy – No refunds after RSVP date. If you must cancel\, you may pick up your goody bag and event packet up to a week after the event.   Due to the amount of work that goes into ordering supplies\, preparing event packets\, room rental and catering fees\, we must abide by a strict cancellation policy.  Thank you.
URL:https://honeybeestampers.com/event/summer-bingo-2/
LOCATION:Beach Forest Community Center\, 2010 Harborview \, Sumter\, SC\, 29153\, United States
CATEGORIES:Sale-A-Bration,Stampin' Bingo
ORGANIZER;CN="Hattie Walker Nelson":MAILTO:honeybeestampers@gmail.com
END:VEVENT
BEGIN:VEVENT
DTSTART;TZID=America/New_York:20170422T140000
DTEND;TZID=America/New_York:20170422T170000
DTSTAMP:20260420T040042
CREATED:20170322T195414Z
LAST-MODIFIED:20170324T030751Z
UID:182-1492869600-1492880400@honeybeestampers.com
SUMMARY:Spring Stampin' Bingo
DESCRIPTION:As if BINGO wasn’t fun enough\, we had to go and add Stampin’ to the mix!  Grab a friend or two and plan for a really fun event by Honeybee Stampers.  There will be 6 games of BINGO with Stampin’ Up! prizes and 3 make-n-takes. \nCost includes the make-n-takes\, goody bag\, sweet treats and coffee bar and an opportunity to win the GRAND PRIZE Stampin’ Up! shopping spree! \nLocated in a beautiful club house in Sumter\, SC. \nRSVP with payment by Thursday\, April 13th. \n*Bring your Workerbee Kit (or favorite adhesive and tools) – Or you can rent one the day of the event for $5 \n*Cancellation Policy – No refunds after RSVP date. If you must cancel\, you may pick up your goody bag and event packet up to a week after the event.  Because of the amount of work that goes into ordering supplies\, preparing event packets\, room rental and catering fees\, we must abide by a strict cancellation policy.  Thank you. \n\n\n\n \n\n\nEvent Tickets\n\n\nOne event ticket $35.00 USDTwo event tickets $70.00 USDThree event tickets $105.00 USDFour event tickets $140.00 USD
URL:https://honeybeestampers.com/event/spring-stampin-bingo/
LOCATION:Beach Forest Community Center\, 2010 Harborview \, Sumter\, SC\, 29153\, United States
CATEGORIES:Stampin' Bingo
ORGANIZER;CN="Hattie Walker Nelson":MAILTO:honeybeestampers@gmail.com
END:VEVENT
END:VCALENDAR