BEGIN:VCALENDAR
VERSION:2.0
PRODID:-//Honeybee Stampers - ECPv6.15.20//NONSGML v1.0//EN
CALSCALE:GREGORIAN
METHOD:PUBLISH
X-WR-CALNAME:Honeybee Stampers
X-ORIGINAL-URL:https://honeybeestampers.com
X-WR-CALDESC:Events for Honeybee Stampers
REFRESH-INTERVAL;VALUE=DURATION:PT1H
X-Robots-Tag:noindex
X-PUBLISHED-TTL:PT1H
BEGIN:VTIMEZONE
TZID:America/New_York
BEGIN:DAYLIGHT
TZOFFSETFROM:-0500
TZOFFSETTO:-0400
TZNAME:EDT
DTSTART:20160313T070000
END:DAYLIGHT
BEGIN:STANDARD
TZOFFSETFROM:-0400
TZOFFSETTO:-0500
TZNAME:EST
DTSTART:20161106T060000
END:STANDARD
BEGIN:DAYLIGHT
TZOFFSETFROM:-0500
TZOFFSETTO:-0400
TZNAME:EDT
DTSTART:20170312T070000
END:DAYLIGHT
BEGIN:STANDARD
TZOFFSETFROM:-0400
TZOFFSETTO:-0500
TZNAME:EST
DTSTART:20171105T060000
END:STANDARD
BEGIN:DAYLIGHT
TZOFFSETFROM:-0500
TZOFFSETTO:-0400
TZNAME:EDT
DTSTART:20180311T070000
END:DAYLIGHT
BEGIN:STANDARD
TZOFFSETFROM:-0400
TZOFFSETTO:-0500
TZNAME:EST
DTSTART:20181104T060000
END:STANDARD
END:VTIMEZONE
BEGIN:VEVENT
DTSTART;TZID=America/New_York:20171216T100000
DTEND;TZID=America/New_York:20171216T150000
DTSTAMP:20260420T231711
CREATED:20171130T000117Z
LAST-MODIFIED:20171213T163630Z
UID:329-1513418400-1513436400@honeybeestampers.com
SUMMARY:Santa's Workshop 2017 Stamp Camp
DESCRIPTION:Santa’s Workshop Stamp Camp \nIt’s all about the packaging!  If last minute gift packaging ideas is what you need\, then this Stamp Camp is just for you!  Join us for a fantastic\, creative escape before the hustle and bustle of the holidays.   10 gift packaging or card making projects await you – so grab your friends and plan for fun day of stamping\, socializing and solutions for your holiday gift giving.  \nStamp Camps include: \n\na goodie bag\nmake-n-take packet\nlunch\ndoor prize entry\nShop & Drool Stampin’ Pool\n\nPlease bring your Workerbee Kit (basic crafting kit) or rent one for $5 the day of the event. \n*Cancellation Policy – No refunds after RSVP date. If you must cancel\, you may pick up your goodie bag and event packet up to a week after the event.  Because of the amount of work that goes into ordering supplies\, preparing event packets\, room rental and catering fees\, we must abide by a strict cancellation policy.  Thank you. \n\n  \n 
URL:https://honeybeestampers.com/event/santas-workshop-2017-stamp-camp/
LOCATION:Beach Forest Community Center\, 2010 Harborview \, Sumter\, SC\, 29153\, United States
CATEGORIES:Stamp Camp
ORGANIZER;CN="Hattie Walker Nelson":MAILTO:honeybeestampers@gmail.com
END:VEVENT
END:VCALENDAR