BEGIN:VCALENDAR
VERSION:2.0
PRODID:-//Honeybee Stampers - ECPv6.15.20//NONSGML v1.0//EN
CALSCALE:GREGORIAN
METHOD:PUBLISH
X-ORIGINAL-URL:https://honeybeestampers.com
X-WR-CALDESC:Events for Honeybee Stampers
REFRESH-INTERVAL;VALUE=DURATION:PT1H
X-Robots-Tag:noindex
X-PUBLISHED-TTL:PT1H
BEGIN:VTIMEZONE
TZID:America/New_York
BEGIN:DAYLIGHT
TZOFFSETFROM:-0500
TZOFFSETTO:-0400
TZNAME:EDT
DTSTART:20170312T070000
END:DAYLIGHT
BEGIN:STANDARD
TZOFFSETFROM:-0400
TZOFFSETTO:-0500
TZNAME:EST
DTSTART:20171105T060000
END:STANDARD
BEGIN:DAYLIGHT
TZOFFSETFROM:-0500
TZOFFSETTO:-0400
TZNAME:EDT
DTSTART:20180311T070000
END:DAYLIGHT
BEGIN:STANDARD
TZOFFSETFROM:-0400
TZOFFSETTO:-0500
TZNAME:EST
DTSTART:20181104T060000
END:STANDARD
BEGIN:DAYLIGHT
TZOFFSETFROM:-0500
TZOFFSETTO:-0400
TZNAME:EDT
DTSTART:20190310T070000
END:DAYLIGHT
BEGIN:STANDARD
TZOFFSETFROM:-0400
TZOFFSETTO:-0500
TZNAME:EST
DTSTART:20191103T060000
END:STANDARD
END:VTIMEZONE
BEGIN:VEVENT
DTSTART;TZID=America/New_York:20180210T150000
DTEND;TZID=America/New_York:20180210T170000
DTSTAMP:20260420T200321
CREATED:20180128T050546Z
LAST-MODIFIED:20180208T001338Z
UID:356-1518274800-1518282000@honeybeestampers.com
SUMMARY:Coffee & a Card - Sumter\, SC
DESCRIPTION:Coffee & a Card \nSumter has a brand NEW & AMAZING restaurant/coffee shop called\, The Sidewalk Café.  Offering healthy food options and an inviting atmosphere\, this is the place YOU want to be.   \nImagine a fun Saturday afternoon meet up with friends enjoying some café specialties and leaving with a beautiful hand-stamped card.  Honeybee Stampers will set up an opportunity to be creative the 2nd Saturday of each month from 3pm -5pm.  Cost to create a card is $3 and includes everything you need to complete the card with envelope. \nGrab some friends and plan to share some hand-stamped kindness today! \nMust RSVP with payment by the Friday before the event.  RSVP can be done at the Side Walk Café\, Elephant Ear Gallery or below (www.honeybeestampers.com) \n\n 
URL:https://honeybeestampers.com/event/coffee-a-card/
CATEGORIES:Coffee & a Card
ORGANIZER;CN="Hattie Walker Nelson":MAILTO:honeybeestampers@gmail.com
END:VEVENT
BEGIN:VEVENT
DTSTART;TZID=America/New_York:20180222T183000
DTEND;TZID=America/New_York:20180222T203000
DTSTAMP:20260420T200321
CREATED:20180207T153726Z
LAST-MODIFIED:20180207T235832Z
UID:365-1519324200-1519331400@honeybeestampers.com
SUMMARY:Birthday Card Club - Sumter\, SC
DESCRIPTION:Honeybee Stampers is “Bringing Birthday’s Back!” \nLet us help you get a handle on your birthday cards this year!  Never be stuck without a card or need to rush to buy a generic one or pay an arm and a leg for card again.   \nJoin in on the monthly Birthday Card Club (no commitment required) and enjoy some birthday treats while you create hand-stamped birthday cards.  There’s an opportunity to earn Honeycombs at each event and when you’ve collected 6 Honeycombs\, you’ll receive $15 in FREE Stampin’ Up! products!  You will make 6 cards at each club gathering. \nPlan to add this to your calendar the last Thursday of every month!\nFee: $15 or FREE with a minimum purchase \nCan’t Make It???  Try the LDO…\nLong Distance Option (LDO) for Birthday Card Club.  \nSimply place a minimum $35 order (using that month’s Hostess Code) on the last Thursday of the month and you will: \n\nreceive the 6 completed birthday cards with envelopes\nearn a Honeycomb towards your product bonus!\n\n*Must RSVP with payment by the Monday prior to ensure you have a birthday club packet waiting for you!   \n**Cancellation Policy: No refunds after RSVP date. If you must cancel\, you may pick up your uncompleted birthday card club packet at the next club or place a qualifying LDO order and the completed cards will be mailed to you. Because of the amount of work that goes into ordering supplies\, preparing event packets\, we must abide by a strict cancellation policy. Thank you. \n\n 
URL:https://honeybeestampers.com/event/birthday-club-6-2-2-2/
LOCATION:Elephant Ear Gallery\, 672 Bultman Drive\, SUMTER\, SC\, 29153\, United States
CATEGORIES:Birthday Card Club
ORGANIZER;CN="Hattie Walker Nelson":MAILTO:honeybeestampers@gmail.com
END:VEVENT
BEGIN:VEVENT
DTSTART;TZID=America/New_York:20180225T130000
DTEND;TZID=America/New_York:20180225T170000
DTSTAMP:20260420T200321
CREATED:20180209T021120Z
LAST-MODIFIED:20180209T025326Z
UID:387-1519563600-1519578000@honeybeestampers.com
SUMMARY:Kit & Caboodle Day
DESCRIPTION:Kit & Caboodle Day \nTake a break from reality and get immersed in a little creativity.   \nStampin’ Up! offers a variety of beautiful card and project kits to brighten any day.  Carve out some time to complete these kits while socializing with friends old and new.  Choose 1 kit or all 6 – the choice is yours.  Honeybee Stampers will provide the stamps\, inks and tools necessary to complete these kits so all you need to do is show up! \nLocation: Elelphant Ear Gallery – Sumter\, SC \n*Sale-a-Bration BONUS – choose two or more kits and be eligible to receive FREE Sale-A-Bration products! \nNot able to attend in person?  No worries\, gather some friends and schedule your own Kit & Caboodle Day! \nComplete the registration below by February 20th.  Once your registration with kit choices is complete\, you will receive an invoice via email.  You may choose to pay using Cash\, Check\, Credit Card or PayPal.
URL:https://honeybeestampers.com/event/kit-caboodle-day/
LOCATION:Elephant Ear Gallery\, 672 Bultman Drive\, SUMTER\, SC\, 29153\, United States
CATEGORIES:Kit & Caboodle Day
ORGANIZER;CN="Hattie Walker Nelson":MAILTO:honeybeestampers@gmail.com
END:VEVENT
BEGIN:VEVENT
DTSTART;TZID=America/New_York:20180227T183000
DTEND;TZID=America/New_York:20180227T203000
DTSTAMP:20260420T200321
CREATED:20180207T235150Z
LAST-MODIFIED:20180220T225007Z
UID:367-1519756200-1519763400@honeybeestampers.com
SUMMARY:Birthday Card Club - Columbia\, SC
DESCRIPTION:Honeybee Stampers is “Bringing Birthday’s Back!” \nLet us help you get a handle on your birthday cards this year!  Never be stuck without a card or need to rush to buy a generic one or pay an arm and a leg for card again.   \nJoin in on the monthly Birthday Card Club (no commitment required) and enjoy some birthday treats while you create hand-stamped birthday cards.  There’s an opportunity to earn Honeycombs at each event and when you’ve collected 6 Honeycombs\, you’ll receive $15 in FREE Stampin’ Up! products!  You will make 6 cards at each club gathering. \nPlan to add this to your calendar the last Thursday of every month!\nFee: $15 or FREE with a minimum purchase \nCan’t Make It???  Try the LDO…\nLong Distance Option (LDO) for Birthday Card Club.  \nSimply place a minimum $35 order (using that month’s Hostess Code) on the last Thursday of the month and you will: \n\nreceive the 6 completed birthday cards with envelopes\nearn a Honeycomb towards your product bonus!\n\n*Must RSVP with payment by the Monday prior to ensure you have a birthday club packet waiting for you!   \n**Cancellation Policy: No refunds after RSVP date. If you must cancel\, you may pick up your uncompleted birthday card club packet at the next club or place a qualifying LDO order and the completed cards will be mailed to you. Because of the amount of work that goes into ordering supplies\, preparing event packets\, we must abide by a strict cancellation policy. Thank you. \n\n 
URL:https://honeybeestampers.com/event/birthday-club-6-2-2-2-2/
LOCATION:Harbison Community Center\, 106 Hillpine Rd\, Columbia\, SC\, 29212\, United States
CATEGORIES:Birthday Card Club
ORGANIZER;CN="Hattie Walker Nelson":MAILTO:honeybeestampers@gmail.com
END:VEVENT
END:VCALENDAR